Workbook

Sheet Calcolo
A1: Calcolo della giacenza media annua
A2: OnlineFacilePro.it · Compila solo le celle gialle. Il foglio non sostituisce il dato ufficiale di banca o Poste.
A4: Anno di riferimento | B4: 2025
A5: Saldo al 1° gennaio (€) | B5: 1500
A6: Numero di intestatari del conto | B6: 1
A7: Giorni a debito contati come zero (SI / NO) | B7: SI
A9: RISULTATO
A10: Giacenza media annua (€) | B10: =ROUND(SUM(Giorni!D2:D367)/365,2) -> 2476.44 | C10: Somma dei saldi di ogni giorno dell'anno divisa per 365 (istruzioni DSU, D.P.C.M. 159/2013)
A11: Saldo al 31 dicembre (€) | B11: =ROUND(B5+SUMIFS(C16:C515,A16:A515,">="&DATE(B4,1,1),A16:A515,"<="&DATE(B4,12,31)),2) -> 2700
A12: Quota di giacenza media per intestatario (€) | B12: =ROUND(B10/B6,2) -> 2476.44
A13: Quota di saldo per intestatario (€) | B13: =ROUND(B11/B6,2) -> 2700
A14: MOVIMENTI DELL'ANNO (fino a 500 righe). La prima riga è un esempio: sostituiscila con i tuoi dati.
A15: Data (valuta) | B15: Descrizione (facoltativa) | C15: Importo (€): + entrata, − uscita
A16: 45726 | B16: Esempio: stipendio | C16: 1200

Sheet Giorni
A1: Giorno | B1: Data | C1: Saldo a fine giornata (€) | D1: Saldo contato (€)
A2: 1 | B2: =IF(YEAR(DATE(Calcolo!$B$4,1,1)+0)=Calcolo!$B$4,DATE(Calcolo!$B$4,1,1)+0,"") -> 45658 | C2: =IF(B2="","",Calcolo!$B$5+SUMIFS(Calcolo!$C$16:$C$515,Calcolo!$A$16:$A$515,">="&DATE(Calcolo!$B$4,1,1),Calcolo!$A$16:$A$515,"<="&B2)) -> 1500 | D2: =IF(B2="",0,IF(Calcolo!$B$7="SI",MAX(0,C2),C2)) -> 1500
A3: 2 | B3: =IF(YEAR(DATE(Calcolo!$B$4,1,1)+1)=Calcolo!$B$4,DATE(Calcolo!$B$4,1,1)+1,"") -> 45659 | C3: =IF(B3="","",Calcolo!$B$5+SUMIFS(Calcolo!$C$16:$C$515,Calcolo!$A$16:$A$515,">="&DATE(Calcolo!$B$4,1,1),Calcolo!$A$16:$A$515,"<="&B3)) -> 1500 | D3: =IF(B3="",0,IF(Calcolo!$B$7="SI",MAX(0,C3),C3)) -> 1500
A4: 3 | B4: =IF(YEAR(DATE(Calcolo!$B$4,1,1)+2)=Calcolo!$B$4,DATE(Calcolo!$B$4,1,1)+2,"") -> 45660 | C4: =IF(B4="","",Calcolo!$B$5+SUMIFS(Calcolo!$C$16:$C$515,Calcolo!$A$16:$A$515,">="&DATE(Calcolo!$B$4,1,1),Calcolo!$A$16:$A$515,"<="&B4)) -> 1500 | D4: =IF(B4="",0,IF(Calcolo!$B$7="SI",MAX(0,C4),C4)) -> 1500
A5: 4 | B5: =IF(YEAR(DATE(Calcolo!$B$4,1,1)+3)=Calcolo!$B$4,DATE(Calcolo!$B$4,1,1)+3,"") -> 45661 | C5: =IF(B5="","",Calcolo!$B$5+SUMIFS(Calcolo!$C$16:$C$515,Calcolo!$A$16:$A$515,">="&DATE(Calcolo!$B$4,1,1),Calcolo!$A$16:$A$515,"<="&B5)) -> 1500 | D5: =IF(B5="",0,IF(Calcolo!$B$7="SI",MAX(0,C5),C5)) -> 1500
A6: 5 | B6: =IF(YEAR(DATE(Calcolo!$B$4,1,1)+4)=Calcolo!$B$4,DATE(Calcolo!$B$4,1,1)+4,"") -> 45662 | C6: =IF(B6="","",Calcolo!$B$5+SUMIFS(Calcolo!$C$16:$C$515,Calcolo!$A$16:$A$515,">="&DATE(Calcolo!$B$4,1,1),Calcolo!$A$16:$A$515,"<="&B6)) -> 1500 | D6: =IF(B6="",0,IF(Calcolo!$B$7="SI",MAX(0,C6),C6)) -> 1500
A7: 6 | B7: =IF(YEAR(DATE(Calcolo!$B$4,1,1)+5)=Calcolo!$B$4,DATE(Calcolo!$B$4,1,1)+5,"") -> 45663 | C7: =IF(B7="","",Calcolo!$B$5+SUMIFS(Calcolo!$C$16:$C$515,Calcolo!$A$16:$A$515,">="&DATE(Calcolo!$B$4,1,1),Calcolo!$A$16:$A$515,"<="&B7)) -> 1500 | D7: =IF(B7="",0,IF(Calcolo!$B$7="SI",MAX(0,C7),C7)) -> 1500
A8: 7 | B8: =IF(YEAR(DATE(Calcolo!$B$4,1,1)+6)=Calcolo!$B$4,DATE(Calcolo!$B$4,1,1)+6,"") -> 45664 | C8: =IF(B8="","",Calcolo!$B$5+SUMIFS(Calcolo!$C$16:$C$515,Calcolo!$A$16:$A$515,">="&DATE(Calcolo!$B$4,1,1),Calcolo!$A$16:$A$515,"<="&B8)) -> 1500 | D8: =IF(B8="",0,IF(Calcolo!$B$7="SI",MAX(0,C8),C8)) -> 1500
A9: 8 | B9: =IF(YEAR(DATE(Calcolo!$B$4,1,1)+7)=Calcolo!$B$4,DATE(Calcolo!$B$4,1,1)+7,"") -> 45665 | C9: =IF(B9="","",Calcolo!$B$5+SUMIFS(Calcolo!$C$16:$C$515,Calcolo!$A$16:$A$515,">="&DATE(Calcolo!$B$4,1,1),Calcolo!$A$16:$A$515,"<="&B9)) -> 1500 | D9: =IF(B9="",0,IF(Calcolo!$B$7="SI",MAX(0,C9),C9)) -> 1500
A10: 9 | B10: =IF(YEAR(DATE(Calcolo!$B$4,1,1)+8)=Calcolo!$B$4,DATE(Calcolo!$B$4,1,1)+8,"") -> 45666 | C10: =IF(B10="","",Calcolo!$B$5+SUMIFS(Calcolo!$C$16:$C$515,Calcolo!$A$16:$A$515,">="&DATE(Calcolo!$B$4,1,1),Calcolo!$A$16:$A$515,"<="&B10)) -> 1500 | D10: =IF(B10="",0,IF(Calcolo!$B$7="SI",MAX(0,C10),C10)) -> 1500
A11: 10 | B11: =IF(YEAR(DATE(Calcolo!$B$4,1,1)+9)=Calcolo!$B$4,DATE(Calcolo!$B$4,1,1)+9,"") -> 45667 | C11: =IF(B11="","",Calcolo!$B$5+SUMIFS(Calcolo!$C$16:$C$515,Calcolo!$A$16:$A$515,">="&DATE(Calcolo!$B$4,1,1),Calcolo!$A$16:$A$515,"<="&B11)) -> 1500 | D11: =IF(B11="",0,IF(Calcolo!$B$7="SI",MAX(0,C11),C11)) -> 1500
A12: 11 | B12: =IF(YEAR(DATE(Calcolo!$B$4,1,1)+10)=Calcolo!$B$4,DATE(Calcolo!$B$4,1,1)+10,"") -> 45668 | C12: =IF(B12="","",Calcolo!$B$5+SUMIFS(Calcolo!$C$16:$C$515,Calcolo!$A$16:$A$515,">="&DATE(Calcolo!$B$4,1,1),Calcolo!$A$16:$A$515,"<="&B12)) -> 1500 | D12: =IF(B12="",0,IF(Calcolo!$B$7="SI",MAX(0,C12),C12)) -> 1500
A13: 12 | B13: =IF(YEAR(DATE(Calcolo!$B$4,1,1)+11)=Calcolo!$B$4,DATE(Calcolo!$B$4,1,1)+11,"") -> 45669 | C13: =IF(B13="","",Calcolo!$B$5+SUMIFS(Calcolo!$C$16:$C$515,Calcolo!$A$16:$A$515,">="&DATE(Calcolo!$B$4,1,1),Calcolo!$A$16:$A$515,"<="&B13)) -> 1500 | D13: =IF(B13="",0,IF(Calcolo!$B$7="SI",MAX(0,C13),C13)) -> 1500
A14: 13 | B14: =IF(YEAR(DATE(Calcolo!$B$4,1,1)+12)=Calcolo!$B$4,DATE(Calcolo!$B$4,1,1)+12,"") -> 45670 | C14: =IF(B14="","",Calcolo!$B$5+SUMIFS(Calcolo!$C$16:$C$515,Calcolo!$A$16:$A$515,">="&DATE(Calcolo!$B$4,1,1),Calcolo!$A$16:$A$515,"<="&B14)) -> 1500 | D14: =IF(B14="",0,IF(Calcolo!$B$7="SI",MAX(0,C14),C14)) -> 1500
A15: 14 | B15: =IF(YEAR(DATE(Calcolo!$B$4,1,1)+13)=Calcolo!$B$4,DATE(Calcolo!$B$4,1,1)+13,"") -> 45671 | C15: =IF(B15="","",Calcolo!$B$5+SUMIFS(Calcolo!$C$16:$C$515,Calcolo!$A$16:$A$515,">="&DATE(Calcolo!$B$4,1,1),Calcolo!$A$16:$A$515,"<="&B15)) -> 1500 | D15: =IF(B15="",0,IF(Calcolo!$B$7="SI",MAX(0,C15),C15)) -> 1500
A16: 15 | B16: =IF(YEAR(DATE(Calcolo!$B$4,1,1)+14)=Calcolo!$B$4,DATE(Calcolo!$B$4,1,1)+14,"") -> 45672 | C16: =IF(B16="","",Calcolo!$B$5+SUMIFS(Calcolo!$C$16:$C$515,Calcolo!$A$16:$A$515,">="&DATE(Calcolo!$B$4,1,1),Calcolo!$A$16:$A$515,"<="&B16)) -> 1500 | D16: =IF(B16="",0,IF(Calcolo!$B$7="SI",MAX(0,C16),C16)) -> 1500
A17: 16 | B17: =IF(YEAR(DATE(Calcolo!$B$4,1,1)+15)=Calcolo!$B$4,DATE(Calcolo!$B$4,1,1)+15,"") -> 45673 | C17: =IF(B17="","",Calcolo!$B$5+SUMIFS(Calcolo!$C$16:$C$515,Calcolo!$A$16:$A$515,">="&DATE(Calcolo!$B$4,1,1),Calcolo!$A$16:$A$515,"<="&B17)) -> 1500 | D17: =IF(B17="",0,IF(Calcolo!$B$7="SI",MAX(0,C17),C17)) -> 1500
A18: 17 | B18: =IF(YEAR(DATE(Calcolo!$B$4,1,1)+16)=Calcolo!$B$4,DATE(Calcolo!$B$4,1,1)+16,"") -> 45674 | C18: =IF(B18="","",Calcolo!$B$5+SUMIFS(Calcolo!$C$16:$C$515,Calcolo!$A$16:$A$515,">="&DATE(Calcolo!$B$4,1,1),Calcolo!$A$16:$A$515,"<="&B18)) -> 1500 | D18: =IF(B18="",0,IF(Calcolo!$B$7="SI",MAX(0,C18),C18)) -> 1500
A19: 18 | B19: =IF(YEAR(DATE(Calcolo!$B$4,1,1)+17)=Calcolo!$B$4,DATE(Calcolo!$B$4,1,1)+17,"") -> 45675 | C19: =IF(B19="","",Calcolo!$B$5+SUMIFS(Calcolo!$C$16:$C$515,Calcolo!$A$16:$A$515,">="&DATE(Calcolo!$B$4,1,1),Calcolo!$A$16:$A$515,"<="&B19)) -> 1500 | D19: =IF(B19="",0,IF(Calcolo!$B$7="SI",MAX(0,C19),C19)) -> 1500
A20: 19 | B20: =IF(YEAR(DATE(Calcolo!$B$4,1,1)+18)=Calcolo!$B$4,DATE(Calcolo!$B$4,1,1)+18,"") -> 45676 | C20: =IF(B20="","",Calcolo!$B$5+SUMIFS(Calcolo!$C$16:$C$515,Calcolo!$A$16:$A$515,">="&DATE(Calcolo!$B$4,1,1),Calcolo!$A$16:$A$515,"<="&B20)) -> 1500 | D20: =IF(B20="",0,IF(Calcolo!$B$7="SI",MAX(0,C20),C20)) -> 1500
A21: 20 | B21: =IF(YEAR(DATE(Calcolo!$B$4,1,1)+19)=Calcolo!$B$4,DATE(Calcolo!$B$4,1,1)+19,"") -> 45677 | C21: =IF(B21="","",Calcolo!$B$5+SUMIFS(Calcolo!$C$16:$C$515,Calcolo!$A$16:$A$515,">="&DATE(Calcolo!$B$4,1,1),Calcolo!$A$16:$A$515,"<="&B21)) -> 1500 | D21: =IF(B21="",0,IF(Calcolo!$B$7="SI",MAX(0,C21),C21)) -> 1500
A22: 21 | B22: =IF(YEAR(DATE(Calcolo!$B$4,1,1)+20)=Calcolo!$B$4,DATE(Calcolo!$B$4,1,1)+20,"") -> 45678 | C22: =IF(B22="","",Calcolo!$B$5+SUMIFS(Calcolo!$C$16:$C$515,Calcolo!$A$16:$A$515,">="&DATE(Calcolo!$B$4,1,1),Calcolo!$A$16:$A$515,"<="&B22)) -> 1500 | D22: =IF(B22="",0,IF(Calcolo!$B$7="SI",MAX(0,C22),C22)) -> 1500
A23: 22 | B23: =IF(YEAR(DATE(Calcolo!$B$4,1,1)+21)=Calcolo!$B$4,DATE(Calcolo!$B$4,1,1)+21,"") -> 45679 | C23: =IF(B23="","",Calcolo!$B$5+SUMIFS(Calcolo!$C$16:$C$515,Calcolo!$A$16:$A$515,">="&DATE(Calcolo!$B$4,1,1),Calcolo!$A$16:$A$515,"<="&B23)) -> 1500 | D23: =IF(B23="",0,IF(Calcolo!$B$7="SI",MAX(0,C23),C23)) -> 1500
A24: 23 | B24: =IF(YEAR(DATE(Calcolo!$B$4,1,1)+22)=Calcolo!$B$4,DATE(Calcolo!$B$4,1,1)+22,"") -> 45680 | C24: =IF(B24="","",Calcolo!$B$5+SUMIFS(Calcolo!$C$16:$C$515,Calcolo!$A$16:$A$515,">="&DATE(Calcolo!$B$4,1,1),Calcolo!$A$16:$A$515,"<="&B24)) -> 1500 | D24: =IF(B24="",0,IF(Calcolo!$B$7="SI",MAX(0,C24),C24)) -> 1500
A25: 24 | B25: =IF(YEAR(DATE(Calcolo!$B$4,1,1)+23)=Calcolo!$B$4,DATE(Calcolo!$B$4,1,1)+23,"") -> 45681 | C25: =IF(B25="","",Calcolo!$B$5+SUMIFS(Calcolo!$C$16:$C$515,Calcolo!$A$16:$A$515,">="&DATE(Calcolo!$B$4,1,1),Calcolo!$A$16:$A$515,"<="&B25)) -> 1500 | D25: =IF(B25="",0,IF(Calcolo!$B$7="SI",MAX(0,C25),C25)) -> 1500
A26: 25 | B26: =IF(YEAR(DATE(Calcolo!$B$4,1,1)+24)=Calcolo!$B$4,DATE(Calcolo!$B$4,1,1)+24,"") -> 45682 | C26: =IF(B26="","",Calcolo!$B$5+SUMIFS(Calcolo!$C$16:$C$515,Calcolo!$A$16:$A$515,">="&DATE(Calcolo!$B$4,1,1),Calcolo!$A$16:$A$515,"<="&B26)) -> 1500 | D26: =IF(B26="",0,IF(Calcolo!$B$7="SI",MAX(0,C26),C26)) -> 1500
A27: 26 | B27: =IF(YEAR(DATE(Calcolo!$B$4,1,1)+25)=Calcolo!$B$4,DATE(Calcolo!$B$4,1,1)+25,"") -> 45683 | C27: =IF(B27="","",Calcolo!$B$5+SUMIFS(Calcolo!$C$16:$C$515,Calcolo!$A$16:$A$515,">="&DATE(Calcolo!$B$4,1,1),Calcolo!$A$16:$A$515,"<="&B27)) -> 1500 | D27: =IF(B27="",0,IF(Calcolo!$B$7="SI",MAX(0,C27),C27)) -> 1500
A28: 27 | B28: =IF(YEAR(DATE(Calcolo!$B$4,1,1)+26)=Calcolo!$B$4,DATE(Calcolo!$B$4,1,1)+26,"") -> 45684 | C28: =IF(B28="","",Calcolo!$B$5+SUMIFS(Calcolo!$C$16:$C$515,Calcolo!$A$16:$A$515,">="&DATE(Calcolo!$B$4,1,1),Calcolo!$A$16:$A$515,"<="&B28)) -> 1500 | D28: =IF(B28="",0,IF(Calcolo!$B$7="SI",MAX(0,C28),C28)) -> 1500
A29: 28 | B29: =IF(YEAR(DATE(Calcolo!$B$4,1,1)+27)=Calcolo!$B$4,DATE(Calcolo!$B$4,1,1)+27,"") -> 45685 | C29: =IF(B29="","",Calcolo!$B$5+SUMIFS(Calcolo!$C$16:$C$515,Calcolo!$A$16:$A$515,">="&DATE(Calcolo!$B$4,1,1),Calcolo!$A$16:$A$515,"<="&B29)) -> 1500 | D29: =IF(B29="",0,IF(Calcolo!$B$7="SI",MAX(0,C29),C29)) -> 1500
A30: 29 | B30: =IF(YEAR(DATE(Calcolo!$B$4,1,1)+28)=Calcolo!$B$4,DATE(Calcolo!$B$4,1,1)+28,"") -> 45686 | C30: =IF(B30="","",Calcolo!$B$5+SUMIFS(Calcolo!$C$16:$C$515,Calcolo!$A$16:$A$515,">="&DATE(Calcolo!$B$4,1,1),Calcolo!$A$16:$A$515,"<="&B30)) -> 1500 | D30: =IF(B30="",0,IF(Calcolo!$B$7="SI",MAX(0,C30),C30)) -> 1500
A31: 30 | B31: =IF(YEAR(DATE(Calcolo!$B$4,1,1)+29)=Calcolo!$B$4,DATE(Calcolo!$B$4,1,1)+29,"") -> 45687 | C31: =IF(B31="","",Calcolo!$B$5+SUMIFS(Calcolo!$C$16:$C$515,Calcolo!$A$16:$A$515,">="&DATE(Calcolo!$B$4,1,1),Calcolo!$A$16:$A$515,"<="&B31)) -> 1500 | D31: =IF(B31="",0,IF(Calcolo!$B$7="SI",MAX(0,C31),C31)) -> 1500
A32: 31 | B32: =IF(YEAR(DATE(Calcolo!$B$4,1,1)+30)=Calcolo!$B$4,DATE(Calcolo!$B$4,1,1)+30,"") -> 45688 | C32: =IF(B32="","",Calcolo!$B$5+SUMIFS(Calcolo!$C$16:$C$515,Calcolo!$A$16:$A$515,">="&DATE(Calcolo!$B$4,1,1),Calcolo!$A$16:$A$515,"<="&B32)) -> 1500 | D32: =IF(B32="",0,IF(Calcolo!$B$7="SI",MAX(0,C32),C32)) -> 1500
A33: 32 | B33: =IF(YEAR(DATE(Calcolo!$B$4,1,1)+31)=Calcolo!$B$4,DATE(Calcolo!$B$4,1,1)+31,"") -> 45689 | C33: =IF(B33="","",Calcolo!$B$5+SUMIFS(Calcolo!$C$16:$C$515,Calcolo!$A$16:$A$515,">="&DATE(Calcolo!$B$4,1,1),Calcolo!$A$16:$A$515,"<="&B33)) -> 1500 | D33: =IF(B33="",0,IF(Calcolo!$B$7="SI",MAX(0,C33),C33)) -> 1500
A34: 33 | B34: =IF(YEAR(DATE(Calcolo!$B$4,1,1)+32)=Calcolo!$B$4,DATE(Calcolo!$B$4,1,1)+32,"") -> 45690 | C34: =IF(B34="","",Calcolo!$B$5+SUMIFS(Calcolo!$C$16:$C$515,Calcolo!$A$16:$A$515,">="&DATE(Calcolo!$B$4,1,1),Calcolo!$A$16:$A$515,"<="&B34)) -> 1500 | D34: =IF(B34="",0,IF(Calcolo!$B$7="SI",MAX(0,C34),C34)) -> 1500
A35: 34 | B35: =IF(YEAR(DATE(Calcolo!$B$4,1,1)+33)=Calcolo!$B$4,DATE(Calcolo!$B$4,1,1)+33,"") -> 45691 | C35: =IF(B35="","",Calcolo!$B$5+SUMIFS(Calcolo!$C$16:$C$515,Calcolo!$A$16:$A$515,">="&DATE(Calcolo!$B$4,1,1),Calcolo!$A$16:$A$515,"<="&B35)) -> 1500 | D35: =IF(B35="",0,IF(Calcolo!$B$7="SI",MAX(0,C35),C35)) -> 1500
A36: 35 | B36: =IF(YEAR(DATE(Calcolo!$B$4,1,1)+34)=Calcolo!$B$4,DATE(Calcolo!$B$4,1,1)+34,"") -> 45692 | C36: =IF(B36="","",Calcolo!$B$5+SUMIFS(Calcolo!$C$16:$C$515,Calcolo!$A$16:$A$515,">="&DATE(Calcolo!$B$4,1,1),Calcolo!$A$16:$A$515,"<="&B36)) -> 1500 | D36: =IF(B36="",0,IF(Calcolo!$B$7="SI",MAX(0,C36),C36)) -> 1500
A37: 36 | B37: =IF(YEAR(DATE(Calcolo!$B$4,1,1)+35)=Calcolo!$B$4,DATE(Calcolo!$B$4,1,1)+35,"") -> 45693 | C37: =IF(B37="","",Calcolo!$B$5+SUMIFS(Calcolo!$C$16:$C$515,Calcolo!$A$16:$A$515,">="&DATE(Calcolo!$B$4,1,1),Calcolo!$A$16:$A$515,"<="&B37)) -> 1500 | D37: =IF(B37="",0,IF(Calcolo!$B$7="SI",MAX(0,C37),C37)) -> 1500
A38: 37 | B38: =IF(YEAR(DATE(Calcolo!$B$4,1,1)+36)=Calcolo!$B$4,DATE(Calcolo!$B$4,1,1)+36,"") -> 45694 | C38: =IF(B38="","",Calcolo!$B$5+SUMIFS(Calcolo!$C$16:$C$515,Calcolo!$A$16:$A$515,">="&DATE(Calcolo!$B$4,1,1),Calcolo!$A$16:$A$515,"<="&B38)) -> 1500 | D38: =IF(B38="",0,IF(Calcolo!$B$7="SI",MAX(0,C38),C38)) -> 1500
A39: 38 | B39: =IF(YEAR(DATE(Calcolo!$B$4,1,1)+37)=Calcolo!$B$4,DATE(Calcolo!$B$4,1,1)+37,"") -> 45695 | C39: =IF(B39="","",Calcolo!$B$5+SUMIFS(Calcolo!$C$16:$C$515,Calcolo!$A$16:$A$515,">="&DATE(Calcolo!$B$4,1,1),Calcolo!$A$16:$A$515,"<="&B39)) -> 1500 | D39: =IF(B39="",0,IF(Calcolo!$B$7="SI",MAX(0,C39),C39)) -> 1500
A40: 39 | B40: =IF(YEAR(DATE(Calcolo!$B$4,1,1)+38)=Calcolo!$B$4,DATE(Calcolo!$B$4,1,1)+38,"") -> 45696 | C40: =IF(B40="","",Calcolo!$B$5+SUMIFS(Calcolo!$C$16:$C$515,Calcolo!$A$16:$A$515,">="&DATE(Calcolo!$B$4,1,1),Calcolo!$A$16:$A$515,"<="&B40)) -> 1500 | D40: =IF(B40="",0,IF(Calcolo!$B$7="SI",MAX(0,C40),C40)) -> 1500
A41: 40 | B41: =IF(YEAR(DATE(Calcolo!$B$4,1,1)+39)=Calcolo!$B$4,DATE(Calcolo!$B$4,1,1)+39,"") -> 45697 | C41: =IF(B41="","",Calcolo!$B$5+SUMIFS(Calcolo!$C$16:$C$515,Calcolo!$A$16:$A$515,">="&DATE(Calcolo!$B$4,1,1),Calcolo!$A$16:$A$515,"<="&B41)) -> 1500 | D41: =IF(B41="",0,IF(Calcolo!$B$7="SI",MAX(0,C41),C41)) -> 1500
A42: 41 | B42: =IF(YEAR(DATE(Calcolo!$B$4,1,1)+40)=Calcolo!$B$4,DATE(Calcolo!$B$4,1,1)+40,"") -> 45698 | C42: =IF(B42="","",Calcolo!$B$5+SUMIFS(Calcolo!$C$16:$C$515,Calcolo!$A$16:$A$515,">="&DATE(Calcolo!$B$4,1,1),Calcolo!$A$16:$A$515,"<="&B42)) -> 1500 | D42: =IF(B42="",0,IF(Calcolo!$B$7="SI",MAX(0,C42),C42)) -> 1500
A43: 42 | B43: =IF(YEAR(DATE(Calcolo!$B$4,1,1)+41)=Calcolo!$B$4,DATE(Calcolo!$B$4,1,1)+41,"") -> 45699 | C43: =IF(B43="","",Calcolo!$B$5+SUMIFS(Calcolo!$C$16:$C$515,Calcolo!$A$16:$A$515,">="&DATE(Calcolo!$B$4,1,1),Calcolo!$A$16:$A$515,"<="&B43)) -> 1500 | D43: =IF(B43="",0,IF(Calcolo!$B$7="SI",MAX(0,C43),C43)) -> 1500
A44: 43 | B44: =IF(YEAR(DATE(Calcolo!$B$4,1,1)+42)=Calcolo!$B$4,DATE(Calcolo!$B$4,1,1)+42,"") -> 45700 | C44: =IF(B44="","",Calcolo!$B$5+SUMIFS(Calcolo!$C$16:$C$515,Calcolo!$A$16:$A$515,">="&DATE(Calcolo!$B$4,1,1),Calcolo!$A$16:$A$515,"<="&B44)) -> 1500 | D44: =IF(B44="",0,IF(Calcolo!$B$7="SI",MAX(0,C44),C44)) -> 1500
A45: 44 | B45: =IF(YEAR(DATE(Calcolo!$B$4,1,1)+43)=Calcolo!$B$4,DATE(Calcolo!$B$4,1,1)+43,"") -> 45701 | C45: =IF(B45="","",Calcolo!$B$5+SUMIFS(Calcolo!$C$16:$C$515,Calcolo!$A$16:$A$515,">="&DATE(Calcolo!$B$4,1,1),Calcolo!$A$16:$A$515,"<="&B45)) -> 1500 | D45: =IF(B45="",0,IF(Calcolo!$B$7="SI",MAX(0,C45),C45)) -> 1500
A46: 45 | B46: =IF(YEAR(DATE(Calcolo!$B$4,1,1)+44)=Calcolo!$B$4,DATE(Calcolo!$B$4,1,1)+44,"") -> 45702 | C46: =IF(B46="","",Calcolo!$B$5+SUMIFS(Calcolo!$C$16:$C$515,Calcolo!$A$16:$A$515,">="&DATE(Calcolo!$B$4,1,1),Calcolo!$A$16:$A$515,"<="&B46)) -> 1500 | D46: =IF(B46="",0,IF(Calcolo!$B$7="SI",MAX(0,C46),C46)) -> 1500
A47: 46 | B47: =IF(YEAR(DATE(Calcolo!$B$4,1,1)+45)=Calcolo!$B$4,DATE(Calcolo!$B$4,1,1)+45,"") -> 45703 | C47: =IF(B47="","",Calcolo!$B$5+SUMIFS(Calcolo!$C$16:$C$515,Calcolo!$A$16:$A$515,">="&DATE(Calcolo!$B$4,1,1),Calcolo!$A$16:$A$515,"<="&B47)) -> 1500 | D47: =IF(B47="",0,IF(Calcolo!$B$7="SI",MAX(0,C47),C47)) -> 1500
A48: 47 | B48: =IF(YEAR(DATE(Calcolo!$B$4,1,1)+46)=Calcolo!$B$4,DATE(Calcolo!$B$4,1,1)+46,"") -> 45704 | C48: =IF(B48="","",Calcolo!$B$5+SUMIFS(Calcolo!$C$16:$C$515,Calcolo!$A$16:$A$515,">="&DATE(Calcolo!$B$4,1,1),Calcolo!$A$16:$A$515,"<="&B48)) -> 1500 | D48: =IF(B48="",0,IF(Calcolo!$B$7="SI",MAX(0,C48),C48)) -> 1500
A49: 48 | B49: =IF(YEAR(DATE(Calcolo!$B$4,1,1)+47)=Calcolo!$B$4,DATE(Calcolo!$B$4,1,1)+47,"") -> 45705 | C49: =IF(B49="","",Calcolo!$B$5+SUMIFS(Calcolo!$C$16:$C$515,Calcolo!$A$16:$A$515,">="&DATE(Calcolo!$B$4,1,1),Calcolo!$A$16:$A$515,"<="&B49)) -> 1500 | D49: =IF(B49="",0,IF(Calcolo!$B$7="SI",MAX(0,C49),C49)) -> 1500
A50: 49 | B50: =IF(YEAR(DATE(Calcolo!$B$4,1,1)+48)=Calcolo!$B$4,DATE(Calcolo!$B$4,1,1)+48,"") -> 45706 | C50: =IF(B50="","",Calcolo!$B$5+SUMIFS(Calcolo!$C$16:$C$515,Calcolo!$A$16:$A$515,">="&DATE(Calcolo!$B$4,1,1),Calcolo!$A$16:$A$515,"<="&B50)) -> 1500 | D50: =IF(B50="",0,IF(Calcolo!$B$7="SI",MAX(0,C50),C50)) -> 1500
A51: 50 | B51: =IF(YEAR(DATE(Calcolo!$B$4,1,1)+49)=Calcolo!$B$4,DATE(Calcolo!$B$4,1,1)+49,"") -> 45707 | C51: =IF(B51="","",Calcolo!$B$5+SUMIFS(Calcolo!$C$16:$C$515,Calcolo!$A$16:$A$515,">="&DATE(Calcolo!$B$4,1,1),Calcolo!$A$16:$A$515,"<="&B51)) -> 1500 | D51: =IF(B51="",0,IF(Calcolo!$B$7="SI",MAX(0,C51),C51)) -> 1500
A52: 51 | B52: =IF(YEAR(DATE(Calcolo!$B$4,1,1)+50)=Calcolo!$B$4,DATE(Calcolo!$B$4,1,1)+50,"") -> 45708 | C52: =IF(B52="","",Calcolo!$B$5+SUMIFS(Calcolo!$C$16:$C$515,Calcolo!$A$16:$A$515,">="&DATE(Calcolo!$B$4,1,1),Calcolo!$A$16:$A$515,"<="&B52)) -> 1500 | D52: =IF(B52="",0,IF(Calcolo!$B$7="SI",MAX(0,C52),C52)) -> 1500
A53: 52 | B53: =IF(YEAR(DATE(Calcolo!$B$4,1,1)+51)=Calcolo!$B$4,DATE(Calcolo!$B$4,1,1)+51,"") -> 45709 | C53: =IF(B53="","",Calcolo!$B$5+SUMIFS(Calcolo!$C$16:$C$515,Calcolo!$A$16:$A$515,">="&DATE(Calcolo!$B$4,1,1),Calcolo!$A$16:$A$515,"<="&B53)) -> 1500 | D53: =IF(B53="",0,IF(Calcolo!$B$7="SI",MAX(0,C53),C53)) -> 1500
A54: 53 | B54: =IF(YEAR(DATE(Calcolo!$B$4,1,1)+52)=Calcolo!$B$4,DATE(Calcolo!$B$4,1,1)+52,"") -> 45710 | C54: =IF(B54="","",Calcolo!$B$5+SUMIFS(Calcolo!$C$16:$C$515,Calcolo!$A$16:$A$515,">="&DATE(Calcolo!$B$4,1,1),Calcolo!$A$16:$A$515,"<="&B54)) -> 1500 | D54: =IF(B54="",0,IF(Calcolo!$B$7="SI",MAX(0,C54),C54)) -> 1500
A55: 54 | B55: =IF(YEAR(DATE(Calcolo!$B$4,1,1)+53)=Calcolo!$B$4,DATE(Calcolo!$B$4,1,1)+53,"") -> 45711 | C55: =IF(B55="","",Calcolo!$B$5+SUMIFS(Calcolo!$C$16:$C$515,Calcolo!$A$16:$A$515,">="&DATE(Calcolo!$B$4,1,1),Calcolo!$A$16:$A$515,"<="&B55)) -> 1500 | D55: =IF(B55="",0,IF(Calcolo!$B$7="SI",MAX(0,C55),C55)) -> 1500
A56: 55 | B56: =IF(YEAR(DATE(Calcolo!$B$4,1,1)+54)=Calcolo!$B$4,DATE(Calcolo!$B$4,1,1)+54,"") -> 45712 | C56: =IF(B56="","",Calcolo!$B$5+SUMIFS(Calcolo!$C$16:$C$515,Calcolo!$A$16:$A$515,">="&DATE(Calcolo!$B$4,1,1),Calcolo!$A$16:$A$515,"<="&B56)) -> 1500 | D56: =IF(B56="",0,IF(Calcolo!$B$7="SI",MAX(0,C56),C56)) -> 1500
A57: 56 | B57: =IF(YEAR(DATE(Calcolo!$B$4,1,1)+55)=Calcolo!$B$4,DATE(Calcolo!$B$4,1,1)+55,"") -> 45713 | C57: =IF(B57="","",Calcolo!$B$5+SUMIFS(Calcolo!$C$16:$C$515,Calcolo!$A$16:$A$515,">="&DATE(Calcolo!$B$4,1,1),Calcolo!$A$16:$A$515,"<="&B57)) -> 1500 | D57: =IF(B57="",0,IF(Calcolo!$B$7="SI",MAX(0,C57),C57)) -> 1500
A58: 57 | B58: =IF(YEAR(DATE(Calcolo!$B$4,1,1)+56)=Calcolo!$B$4,DATE(Calcolo!$B$4,1,1)+56,"") -> 45714 | C58: =IF(B58="","",Calcolo!$B$5+SUMIFS(Calcolo!$C$16:$C$515,Calcolo!$A$16:$A$515,">="&DATE(Calcolo!$B$4,1,1),Calcolo!$A$16:$A$515,"<="&B58)) -> 1500 | D58: =IF(B58="",0,IF(Calcolo!$B$7="SI",MAX(0,C58),C58)) -> 1500
A59: 58 | B59: =IF(YEAR(DATE(Calcolo!$B$4,1,1)+57)=Calcolo!$B$4,DATE(Calcolo!$B$4,1,1)+57,"") -> 45715 | C59: =IF(B59="","",Calcolo!$B$5+SUMIFS(Calcolo!$C$16:$C$515,Calcolo!$A$16:$A$515,">="&DATE(Calcolo!$B$4,1,1),Calcolo!$A$16:$A$515,"<="&B59)) -> 1500 | D59: =IF(B59="",0,IF(Calcolo!$B$7="SI",MAX(0,C59),C59)) -> 1500
A60: 59 | B60: =IF(YEAR(DATE(Calcolo!$B$4,1,1)+58)=Calcolo!$B$4,DATE(Calcolo!$B$4,1,1)+58,"") -> 45716 | C60: =IF(B60="","",Calcolo!$B$5+SUMIFS(Calcolo!$C$16:$C$515,Calcolo!$A$16:$A$515,">="&DATE(Calcolo!$B$4,1,1),Calcolo!$A$16:$A$515,"<="&B60)) -> 1500 | D60: =IF(B60="",0,IF(Calcolo!$B$7="SI",MAX(0,C60),C60)) -> 1500
A61: 60 | B61: =IF(YEAR(DATE(Calcolo!$B$4,1,1)+59)=Calcolo!$B$4,DATE(Calcolo!$B$4,1,1)+59,"") -> 45717 | C61: =IF(B61="","",Calcolo!$B$5+SUMIFS(Calcolo!$C$16:$C$515,Calcolo!$A$16:$A$515,">="&DATE(Calcolo!$B$4,1,1),Calcolo!$A$16:$A$515,"<="&B61)) -> 1500 | D61: =IF(B61="",0,IF(Calcolo!$B$7="SI",MAX(0,C61),C61)) -> 1500
A62: 61 | B62: =IF(YEAR(DATE(Calcolo!$B$4,1,1)+60)=Calcolo!$B$4,DATE(Calcolo!$B$4,1,1)+60,"") -> 45718 | C62: =IF(B62="","",Calcolo!$B$5+SUMIFS(Calcolo!$C$16:$C$515,Calcolo!$A$16:$A$515,">="&DATE(Calcolo!$B$4,1,1),Calcolo!$A$16:$A$515,"<="&B62)) -> 1500 | D62: =IF(B62="",0,IF(Calcolo!$B$7="SI",MAX(0,C62),C62)) -> 1500
A63: 62 | B63: =IF(YEAR(DATE(Calcolo!$B$4,1,1)+61)=Calcolo!$B$4,DATE(Calcolo!$B$4,1,1)+61,"") -> 45719 | C63: =IF(B63="","",Calcolo!$B$5+SUMIFS(Calcolo!$C$16:$C$515,Calcolo!$A$16:$A$515,">="&DATE(Calcolo!$B$4,1,1),Calcolo!$A$16:$A$515,"<="&B63)) -> 1500 | D63: =IF(B63="",0,IF(Calcolo!$B$7="SI",MAX(0,C63),C63)) -> 1500
A64: 63 | B64: =IF(YEAR(DATE(Calcolo!$B$4,1,1)+62)=Calcolo!$B$4,DATE(Calcolo!$B$4,1,1)+62,"") -> 45720 | C64: =IF(B64="","",Calcolo!$B$5+SUMIFS(Calcolo!$C$16:$C$515,Calcolo!$A$16:$A$515,">="&DATE(Calcolo!$B$4,1,1),Calcolo!$A$16:$A$515,"<="&B64)) -> 1500 | D64: =IF(B64="",0,IF(Calcolo!$B$7="SI",MAX(0,C64),C64)) -> 1500
A65: 64 | B65: =IF(YEAR(DATE(Calcolo!$B$4,1,1)+63)=Calcolo!$B$4,DATE(Calcolo!$B$4,1,1)+63,"") -> 45721 | C65: =IF(B65="","",Calcolo!$B$5+SUMIFS(Calcolo!$C$16:$C$515,Calcolo!$A$16:$A$515,">="&DATE(Calcolo!$B$4,1,1),Calcolo!$A$16:$A$515,"<="&B65)) -> 1500 | D65: =IF(B65="",0,IF(Calcolo!$B$7="SI",MAX(0,C65),C65)) -> 1500
A66: 65 | B66: =IF(YEAR(DATE(Calcolo!$B$4,1,1)+64)=Calcolo!$B$4,DATE(Calcolo!$B$4,1,1)+64,"") -> 45722 | C66: =IF(B66="","",Calcolo!$B$5+SUMIFS(Calcolo!$C$16:$C$515,Calcolo!$A$16:$A$515,">="&DATE(Calcolo!$B$4,1,1),Calcolo!$A$16:$A$515,"<="&B66)) -> 1500 | D66: =IF(B66="",0,IF(Calcolo!$B$7="SI",MAX(0,C66),C66)) -> 1500
A67: 66 | B67: =IF(YEAR(DATE(Calcolo!$B$4,1,1)+65)=Calcolo!$B$4,DATE(Calcolo!$B$4,1,1)+65,"") -> 45723 | C67: =IF(B67="","",Calcolo!$B$5+SUMIFS(Calcolo!$C$16:$C$515,Calcolo!$A$16:$A$515,">="&DATE(Calcolo!$B$4,1,1),Calcolo!$A$16:$A$515,"<="&B67)) -> 1500 | D67: =IF(B67="",0,IF(Calcolo!$B$7="SI",MAX(0,C67),C67)) -> 1500
A68: 67 | B68: =IF(YEAR(DATE(Calcolo!$B$4,1,1)+66)=Calcolo!$B$4,DATE(Calcolo!$B$4,1,1)+66,"") -> 45724 | C68: =IF(B68="","",Calcolo!$B$5+SUMIFS(Calcolo!$C$16:$C$515,Calcolo!$A$16:$A$515,">="&DATE(Calcolo!$B$4,1,1),Calcolo!$A$16:$A$515,"<="&B68)) -> 1500 | D68: =IF(B68="",0,IF(Calcolo!$B$7="SI",MAX(0,C68),C68)) -> 1500
A69: 68 | B69: =IF(YEAR(DATE(Calcolo!$B$4,1,1)+67)=Calcolo!$B$4,DATE(Calcolo!$B$4,1,1)+67,"") -> 45725 | C69: =IF(B69="","",Calcolo!$B$5+SUMIFS(Calcolo!$C$16:$C$515,Calcolo!$A$16:$A$515,">="&DATE(Calcolo!$B$4,1,1),Calcolo!$A$16:$A$515,"<="&B69)) -> 1500 | D69: =IF(B69="",0,IF(Calcolo!$B$7="SI",MAX(0,C69),C69)) -> 1500
A70: 69 | B70: =IF(YEAR(DATE(Calcolo!$B$4,1,1)+68)=Calcolo!$B$4,DATE(Calcolo!$B$4,1,1)+68,"") -> 45726 | C70: =IF(B70="","",Calcolo!$B$5+SUMIFS(Calcolo!$C$16:$C$515,Calcolo!$A$16:$A$515,">="&DATE(Calcolo!$B$4,1,1),Calcolo!$A$16:$A$515,"<="&B70)) -> 2700 | D70: =IF(B70="",0,IF(Calcolo!$B$7="SI",MAX(0,C70),C70)) -> 2700
A71: 70 | B71: =IF(YEAR(DATE(Calcolo!$B$4,1,1)+69)=Calcolo!$B$4,DATE(Calcolo!$B$4,1,1)+69,"") -> 45727 | C71: =IF(B71="","",Calcolo!$B$5+SUMIFS(Calcolo!$C$16:$C$515,Calcolo!$A$16:$A$515,">="&DATE(Calcolo!$B$4,1,1),Calcolo!$A$16:$A$515,"<="&B71)) -> 2700 | D71: =IF(B71="",0,IF(Calcolo!$B$7="SI",MAX(0,C71),C71)) -> 2700
A72: 71 | B72: =IF(YEAR(DATE(Calcolo!$B$4,1,1)+70)=Calcolo!$B$4,DATE(Calcolo!$B$4,1,1)+70,"") -> 45728 | C72: =IF(B72="","",Calcolo!$B$5+SUMIFS(Calcolo!$C$16:$C$515,Calcolo!$A$16:$A$515,">="&DATE(Calcolo!$B$4,1,1),Calcolo!$A$16:$A$515,"<="&B72)) -> 2700 | D72: =IF(B72="",0,IF(Calcolo!$B$7="SI",MAX(0,C72),C72)) -> 2700
A73: 72 | B73: =IF(YEAR(DATE(Calcolo!$B$4,1,1)+71)=Calcolo!$B$4,DATE(Calcolo!$B$4,1,1)+71,"") -> 45729 | C73: =IF(B73="","",Calcolo!$B$5+SUMIFS(Calcolo!$C$16:$C$515,Calcolo!$A$16:$A$515,">="&DATE(Calcolo!$B$4,1,1),Calcolo!$A$16:$A$515,"<="&B73)) -> 2700 | D73: =IF(B73="",0,IF(Calcolo!$B$7="SI",MAX(0,C73),C73)) -> 2700
A74: 73 | B74: =IF(YEAR(DATE(Calcolo!$B$4,1,1)+72)=Calcolo!$B$4,DATE(Calcolo!$B$4,1,1)+72,"") -> 45730 | C74: =IF(B74="","",Calcolo!$B$5+SUMIFS(Calcolo!$C$16:$C$515,Calcolo!$A$16:$A$515,">="&DATE(Calcolo!$B$4,1,1),Calcolo!$A$16:$A$515,"<="&B74)) -> 2700 | D74: =IF(B74="",0,IF(Calcolo!$B$7="SI",MAX(0,C74),C74)) -> 2700
A75: 74 | B75: =IF(YEAR(DATE(Calcolo!$B$4,1,1)+73)=Calcolo!$B$4,DATE(Calcolo!$B$4,1,1)+73,"") -> 45731 | C75: =IF(B75="","",Calcolo!$B$5+SUMIFS(Calcolo!$C$16:$C$515,Calcolo!$A$16:$A$515,">="&DATE(Calcolo!$B$4,1,1),Calcolo!$A$16:$A$515,"<="&B75)) -> 2700 | D75: =IF(B75="",0,IF(Calcolo!$B$7="SI",MAX(0,C75),C75)) -> 2700
A76: 75 | B76: =IF(YEAR(DATE(Calcolo!$B$4,1,1)+74)=Calcolo!$B$4,DATE(Calcolo!$B$4,1,1)+74,"") -> 45732 | C76: =IF(B76="","",Calcolo!$B$5+SUMIFS(Calcolo!$C$16:$C$515,Calcolo!$A$16:$A$515,">="&DATE(Calcolo!$B$4,1,1),Calcolo!$A$16:$A$515,"<="&B76)) -> 2700 | D76: =IF(B76="",0,IF(Calcolo!$B$7="SI",MAX(0,C76),C76)) -> 2700
A77: 76 | B77: =IF(YEAR(DATE(Calcolo!$B$4,1,1)+75)=Calcolo!$B$4,DATE(Calcolo!$B$4,1,1)+75,"") -> 45733 | C77: =IF(B77="","",Calcolo!$B$5+SUMIFS(Calcolo!$C$16:$C$515,Calcolo!$A$16:$A$515,">="&DATE(Calcolo!$B$4,1,1),Calcolo!$A$16:$A$515,"<="&B77)) -> 2700 | D77: =IF(B77="",0,IF(Calcolo!$B$7="SI",MAX(0,C77),C77)) -> 2700
A78: 77 | B78: =IF(YEAR(DATE(Calcolo!$B$4,1,1)+76)=Calcolo!$B$4,DATE(Calcolo!$B$4,1,1)+76,"") -> 45734 | C78: =IF(B78="","",Calcolo!$B$5+SUMIFS(Calcolo!$C$16:$C$515,Calcolo!$A$16:$A$515,">="&DATE(Calcolo!$B$4,1,1),Calcolo!$A$16:$A$515,"<="&B78)) -> 2700 | D78: =IF(B78="",0,IF(Calcolo!$B$7="SI",MAX(0,C78),C78)) -> 2700
A79: 78 | B79: =IF(YEAR(DATE(Calcolo!$B$4,1,1)+77)=Calcolo!$B$4,DATE(Calcolo!$B$4,1,1)+77,"") -> 45735 | C79: =IF(B79="","",Calcolo!$B$5+SUMIFS(Calcolo!$C$16:$C$515,Calcolo!$A$16:$A$515,">="&DATE(Calcolo!$B$4,1,1),Calcolo!$A$16:$A$515,"<="&B79)) -> 2700 | D79: =IF(B79="",0,IF(Calcolo!$B$7="SI",MAX(0,C79),C79)) -> 2700
A80: 79 | B80: =IF(YEAR(DATE(Calcolo!$B$4,1,1)+78)=Calcolo!$B$4,DATE(Calcolo!$B$4,1,1)+78,"") -> 45736 | C80: =IF(B80="","",Calcolo!$B$5+SUMIFS(Calcolo!$C$16:$C$515,Calcolo!$A$16:$A$515,">="&DATE(Calcolo!$B$4,1,1),Calcolo!$A$16:$A$515,"<="&B80)) -> 2700 | D80: =IF(B80="",0,IF(Calcolo!$B$7="SI",MAX(0,C80),C80)) -> 2700
A81: 80 | B81: =IF(YEAR(DATE(Calcolo!$B$4,1,1)+79)=Calcolo!$B$4,DATE(Calcolo!$B$4,1,1)+79,"") -> 45737 | C81: =IF(B81="","",Calcolo!$B$5+SUMIFS(Calcolo!$C$16:$C$515,Calcolo!$A$16:$A$515,">="&DATE(Calcolo!$B$4,1,1),Calcolo!$A$16:$A$515,"<="&B81)) -> 2700 | D81: =IF(B81="",0,IF(Calcolo!$B$7="SI",MAX(0,C81),C81)) -> 2700
A82: 81 | B82: =IF(YEAR(DATE(Calcolo!$B$4,1,1)+80)=Calcolo!$B$4,DATE(Calcolo!$B$4,1,1)+80,"") -> 45738 | C82: =IF(B82="","",Calcolo!$B$5+SUMIFS(Calcolo!$C$16:$C$515,Calcolo!$A$16:$A$515,">="&DATE(Calcolo!$B$4,1,1),Calcolo!$A$16:$A$515,"<="&B82)) -> 2700 | D82: =IF(B82="",0,IF(Calcolo!$B$7="SI",MAX(0,C82),C82)) -> 2700
A83: 82 | B83: =IF(YEAR(DATE(Calcolo!$B$4,1,1)+81)=Calcolo!$B$4,DATE(Calcolo!$B$4,1,1)+81,"") -> 45739 | C83: =IF(B83="","",Calcolo!$B$5+SUMIFS(Calcolo!$C$16:$C$515,Calcolo!$A$16:$A$515,">="&DATE(Calcolo!$B$4,1,1),Calcolo!$A$16:$A$515,"<="&B83)) -> 2700 | D83: =IF(B83="",0,IF(Calcolo!$B$7="SI",MAX(0,C83),C83)) -> 2700
A84: 83 | B84: =IF(YEAR(DATE(Calcolo!$B$4,1,1)+82)=Calcolo!$B$4,DATE(Calcolo!$B$4,1,1)+82,"") -> 45740 | C84: =IF(B84="","",Calcolo!$B$5+SUMIFS(Calcolo!$C$16:$C$515,Calcolo!$A$16:$A$515,">="&DATE(Calcolo!$B$4,1,1),Calcolo!$A$16:$A$515,"<="&B84)) -> 2700 | D84: =IF(B84="",0,IF(Calcolo!$B$7="SI",MAX(0,C84),C84)) -> 2700
A85: 84 | B85: =IF(YEAR(DATE(Calcolo!$B$4,1,1)+83)=Calcolo!$B$4,DATE(Calcolo!$B$4,1,1)+83,"") -> 45741 | C85: =IF(B85="","",Calcolo!$B$5+SUMIFS(Calcolo!$C$16:$C$515,Calcolo!$A$16:$A$515,">="&DATE(Calcolo!$B$4,1,1),Calcolo!$A$16:$A$515,"<="&B85)) -> 2700 | D85: =IF(B85="",0,IF(Calcolo!$B$7="SI",MAX(0,C85),C85)) -> 2700
A86: 85 | B86: =IF(YEAR(DATE(Calcolo!$B$4,1,1)+84)=Calcolo!$B$4,DATE(Calcolo!$B$4,1,1)+84,"") -> 45742 | C86: =IF(B86="","",Calcolo!$B$5+SUMIFS(Calcolo!$C$16:$C$515,Calcolo!$A$16:$A$515,">="&DATE(Calcolo!$B$4,1,1),Calcolo!$A$16:$A$515,"<="&B86)) -> 2700 | D86: =IF(B86="",0,IF(Calcolo!$B$7="SI",MAX(0,C86),C86)) -> 2700
A87: 86 | B87: =IF(YEAR(DATE(Calcolo!$B$4,1,1)+85)=Calcolo!$B$4,DATE(Calcolo!$B$4,1,1)+85,"") -> 45743 | C87: =IF(B87="","",Calcolo!$B$5+SUMIFS(Calcolo!$C$16:$C$515,Calcolo!$A$16:$A$515,">="&DATE(Calcolo!$B$4,1,1),Calcolo!$A$16:$A$515,"<="&B87)) -> 2700 | D87: =IF(B87="",0,IF(Calcolo!$B$7="SI",MAX(0,C87),C87)) -> 2700
A88: 87 | B88: =IF(YEAR(DATE(Calcolo!$B$4,1,1)+86)=Calcolo!$B$4,DATE(Calcolo!$B$4,1,1)+86,"") -> 45744 | C88: =IF(B88="","",Calcolo!$B$5+SUMIFS(Calcolo!$C$16:$C$515,Calcolo!$A$16:$A$515,">="&DATE(Calcolo!$B$4,1,1),Calcolo!$A$16:$A$515,"<="&B88)) -> 2700 | D88: =IF(B88="",0,IF(Calcolo!$B$7="SI",MAX(0,C88),C88)) -> 2700
A89: 88 | B89: =IF(YEAR(DATE(Calcolo!$B$4,1,1)+87)=Calcolo!$B$4,DATE(Calcolo!$B$4,1,1)+87,"") -> 45745 | C89: =IF(B89="","",Calcolo!$B$5+SUMIFS(Calcolo!$C$16:$C$515,Calcolo!$A$16:$A$515,">="&DATE(Calcolo!$B$4,1,1),Calcolo!$A$16:$A$515,"<="&B89)) -> 2700 | D89: =IF(B89="",0,IF(Calcolo!$B$7="SI",MAX(0,C89),C89)) -> 2700
A90: 89 | B90: =IF(YEAR(DATE(Calcolo!$B$4,1,1)+88)=Calcolo!$B$4,DATE(Calcolo!$B$4,1,1)+88,"") -> 45746 | C90: =IF(B90="","",Calcolo!$B$5+SUMIFS(Calcolo!$C$16:$C$515,Calcolo!$A$16:$A$515,">="&DATE(Calcolo!$B$4,1,1),Calcolo!$A$16:$A$515,"<="&B90)) -> 2700 | D90: =IF(B90="",0,IF(Calcolo!$B$7="SI",MAX(0,C90),C90)) -> 2700
A91: 90 | B91: =IF(YEAR(DATE(Calcolo!$B$4,1,1)+89)=Calcolo!$B$4,DATE(Calcolo!$B$4,1,1)+89,"") -> 45747 | C91: =IF(B91="","",Calcolo!$B$5+SUMIFS(Calcolo!$C$16:$C$515,Calcolo!$A$16:$A$515,">="&DATE(Calcolo!$B$4,1,1),Calcolo!$A$16:$A$515,"<="&B91)) -> 2700 | D91: =IF(B91="",0,IF(Calcolo!$B$7="SI",MAX(0,C91),C91)) -> 2700
A92: 91 | B92: =IF(YEAR(DATE(Calcolo!$B$4,1,1)+90)=Calcolo!$B$4,DATE(Calcolo!$B$4,1,1)+90,"") -> 45748 | C92: =IF(B92="","",Calcolo!$B$5+SUMIFS(Calcolo!$C$16:$C$515,Calcolo!$A$16:$A$515,">="&DATE(Calcolo!$B$4,1,1),Calcolo!$A$16:$A$515,"<="&B92)) -> 2700 | D92: =IF(B92="",0,IF(Calcolo!$B$7="SI",MAX(0,C92),C92)) -> 2700
A93: 92 | B93: =IF(YEAR(DATE(Calcolo!$B$4,1,1)+91)=Calcolo!$B$4,DATE(Calcolo!$B$4,1,1)+91,"") -> 45749 | C93: =IF(B93="","",Calcolo!$B$5+SUMIFS(Calcolo!$C$16:$C$515,Calcolo!$A$16:$A$515,">="&DATE(Calcolo!$B$4,1,1),Calcolo!$A$16:$A$515,"<="&B93)) -> 2700 | D93: =IF(B93="",0,IF(Calcolo!$B$7="SI",MAX(0,C93),C93)) -> 2700
A94: 93 | B94: =IF(YEAR(DATE(Calcolo!$B$4,1,1)+92)=Calcolo!$B$4,DATE(Calcolo!$B$4,1,1)+92,"") -> 45750 | C94: =IF(B94="","",Calcolo!$B$5+SUMIFS(Calcolo!$C$16:$C$515,Calcolo!$A$16:$A$515,">="&DATE(Calcolo!$B$4,1,1),Calcolo!$A$16:$A$515,"<="&B94)) -> 2700 | D94: =IF(B94="",0,IF(Calcolo!$B$7="SI",MAX(0,C94),C94)) -> 2700
A95: 94 | B95: =IF(YEAR(DATE(Calcolo!$B$4,1,1)+93)=Calcolo!$B$4,DATE(Calcolo!$B$4,1,1)+93,"") -> 45751 | C95: =IF(B95="","",Calcolo!$B$5+SUMIFS(Calcolo!$C$16:$C$515,Calcolo!$A$16:$A$515,">="&DATE(Calcolo!$B$4,1,1),Calcolo!$A$16:$A$515,"<="&B95)) -> 2700 | D95: =IF(B95="",0,IF(Calcolo!$B$7="SI",MAX(0,C95),C95)) -> 2700
A96: 95 | B96: =IF(YEAR(DATE(Calcolo!$B$4,1,1)+94)=Calcolo!$B$4,DATE(Calcolo!$B$4,1,1)+94,"") -> 45752 | C96: =IF(B96="","",Calcolo!$B$5+SUMIFS(Calcolo!$C$16:$C$515,Calcolo!$A$16:$A$515,">="&DATE(Calcolo!$B$4,1,1),Calcolo!$A$16:$A$515,"<="&B96)) -> 2700 | D96: =IF(B96="",0,IF(Calcolo!$B$7="SI",MAX(0,C96),C96)) -> 2700
A97: 96 | B97: =IF(YEAR(DATE(Calcolo!$B$4,1,1)+95)=Calcolo!$B$4,DATE(Calcolo!$B$4,1,1)+95,"") -> 45753 | C97: =IF(B97="","",Calcolo!$B$5+SUMIFS(Calcolo!$C$16:$C$515,Calcolo!$A$16:$A$515,">="&DATE(Calcolo!$B$4,1,1),Calcolo!$A$16:$A$515,"<="&B97)) -> 2700 | D97: =IF(B97="",0,IF(Calcolo!$B$7="SI",MAX(0,C97),C97)) -> 2700
A98: 97 | B98: =IF(YEAR(DATE(Calcolo!$B$4,1,1)+96)=Calcolo!$B$4,DATE(Calcolo!$B$4,1,1)+96,"") -> 45754 | C98: =IF(B98="","",Calcolo!$B$5+SUMIFS(Calcolo!$C$16:$C$515,Calcolo!$A$16:$A$515,">="&DATE(Calcolo!$B$4,1,1),Calcolo!$A$16:$A$515,"<="&B98)) -> 2700 | D98: =IF(B98="",0,IF(Calcolo!$B$7="SI",MAX(0,C98),C98)) -> 2700
A99: 98 | B99: =IF(YEAR(DATE(Calcolo!$B$4,1,1)+97)=Calcolo!$B$4,DATE(Calcolo!$B$4,1,1)+97,"") -> 45755 | C99: =IF(B99="","",Calcolo!$B$5+SUMIFS(Calcolo!$C$16:$C$515,Calcolo!$A$16:$A$515,">="&DATE(Calcolo!$B$4,1,1),Calcolo!$A$16:$A$515,"<="&B99)) -> 2700 | D99: =IF(B99="",0,IF(Calcolo!$B$7="SI",MAX(0,C99),C99)) -> 2700
A100: 99 | B100: =IF(YEAR(DATE(Calcolo!$B$4,1,1)+98)=Calcolo!$B$4,DATE(Calcolo!$B$4,1,1)+98,"") -> 45756 | C100: =IF(B100="","",Calcolo!$B$5+SUMIFS(Calcolo!$C$16:$C$515,Calcolo!$A$16:$A$515,">="&DATE(Calcolo!$B$4,1,1),Calcolo!$A$16:$A$515,"<="&B100)) -> 2700 | D100: =IF(B100="",0,IF(Calcolo!$B$7="SI",MAX(0,C100),C100)) -> 2700
...

Sheet Istruzioni
A1: Come usare il foglio
A2: 1. Nel foglio "Calcolo" scrivi l'anno, il saldo che avevi il 1° gennaio e quanti sono gli intestatari.
A3: 2. Riporta ogni movimento dell'anno con la sua data valuta: importo positivo per le entrate, negativo per le uscite.
A4: 3. Leggi il risultato nelle celle azzurre. Il foglio "Giorni" mostra il saldo di ogni giorno.
A6: Come viene fatto il calcolo
A7: La giacenza media annua si ottiene dividendo la somma delle giacenze giornaliere per 365, indipendentemente dal numero di giorni in cui il conto è rimasto aperto.
A8: Fonte: Istruzioni per la compilazione della DSU (D.P.C.M. 159/2013), INPS e Ministero del Lavoro.
A9: Negli anni bisestili i giorni sommati sono 366, ma il divisore resta 365, come indicato dalle istruzioni.
A10: Le istruzioni definiscono la giacenza media come importo medio delle "somme a credito del cliente": per questo, come impostazione predefinita, i giorni con saldo negativo contano zero. Puoi cambiarla nella cella B7.
A12: Attenzione
A13: Per l'ISEE vale il dato comunicato dalla banca o da Poste. Usa questo foglio per fare una stima o un controllo. In caso di differenze chiedi alla banca, a un CAF o a un professionista.
