Workbook

Sheet Calcolo
A1: Calcolo della giacenza media annua
A2: OnlineFacilePro.it · Compila solo le celle gialle. Il foglio non sostituisce il dato ufficiale di banca o Poste.
A4: Anno di riferimento | B4: 2025
A5: Saldo al 1° gennaio (€) | B5: 1500
A6: Numero di intestatari del conto | B6: 1
A7: Giorni a debito contati come zero (SI / NO) | B7: SI
A9: RISULTATO
A10: Giacenza media annua (€) | B10: =ROUND(SUM(Giorni!D2:D367)/365,2) -> 2476.44 | C10: Somma dei saldi di ogni giorno dell'anno divisa per 365 (istruzioni DSU, D.P.C.M. 159/2013)
A11: Saldo al 31 dicembre (€) | B11: =ROUND(B5+SUMIFS(C16:C515,A16:A515,">="&DATE(B4,1,1),A16:A515,"<="&DATE(B4,12,31)),2) -> 2700
A12: Quota di giacenza media per intestatario (€) | B12: =ROUND(B10/B6,2) -> 2476.44
A13: Quota di saldo per intestatario (€) | B13: =ROUND(B11/B6,2) -> 2700
A14: MOVIMENTI DELL'ANNO (fino a 500 righe). La prima riga è un esempio: sostituiscila con i tuoi dati.
A15: Data (valuta) | B15: Descrizione (facoltativa) | C15: Importo (€): + entrata, − uscita
A16: 45726 | B16: Esempio: stipendio | C16: 1200

Sheet Giorni
A1: Giorno | B1: Data | C1: Saldo a fine giornata (€) | D1: Saldo contato (€)
A2: 1 | B2: =IF(YEAR(DATE(Calcolo!$B$4,1,1)+0)=Calcolo!$B$4,DATE(Calcolo!$B$4,1,1)+0,"") -> 45658 | C2: =IF(B2="","",Calcolo!$B$5+SUMIFS(Calcolo!$C$16:$C$515,Calcolo!$A$16:$A$515,">="&DATE(Calcolo!$B$4,1,1),Calcolo!$A$16:$A$515,"<="&B2)) -> 1500 | D2: =IF(B2="",0,IF(Calcolo!$B$7="SI",MAX(0,C2),C2)) -> 1500
A3: 2 | B3: =IF(YEAR(DATE(Calcolo!$B$4,1,1)+1)=Calcolo!$B$4,DATE(Calcolo!$B$4,1,1)+1,"") -> 45659 | C3: =IF(B3="","",Calcolo!$B$5+SUMIFS(Calcolo!$C$16:$C$515,Calcolo!$A$16:$A$515,">="&DATE(Calcolo!$B$4,1,1),Calcolo!$A$16:$A$515,"<="&B3)) -> 1500 | D3: =IF(B3="",0,IF(Calcolo!$B$7="SI",MAX(0,C3),C3)) -> 1500
A4: 3 | B4: =IF(YEAR(DATE(Calcolo!$B$4,1,1)+2)=Calcolo!$B$4,DATE(Calcolo!$B$4,1,1)+2,"") -> 45660 | C4: =IF(B4="","",Calcolo!$B$5+SUMIFS(Calcolo!$C$16:$C$515,Calcolo!$A$16:$A$515,">="&DATE(Calcolo!$B$4,1,1),Calcolo!$A$16:$A$515,"<="&B4)) -> 1500 | D4: =IF(B4="",0,IF(Calcolo!$B$7="SI",MAX(0,C4),C4)) -> 1500
A5: 4 | B5: =IF(YEAR(DATE(Calcolo!$B$4,1,1)+3)=Calcolo!$B$4,DATE(Calcolo!$B$4,1,1)+3,"") -> 45661 | C5: =IF(B5="","",Calcolo!$B$5+SUMIFS(Calcolo!$C$16:$C$515,Calcolo!$A$16:$A$515,">="&DATE(Calcolo!$B$4,1,1),Calcolo!$A$16:$A$515,"<="&B5)) -> 1500 | D5: =IF(B5="",0,IF(Calcolo!$B$7="SI",MAX(0,C5),C5)) -> 1500
A6: 5 | B6: =IF(YEAR(DATE(Calcolo!$B$4,1,1)+4)=Calcolo!$B$4,DATE(Calcolo!$B$4,1,1)+4,"") -> 45662 | C6: =IF(B6="","",Calcolo!$B$5+SUMIFS(Calcolo!$C$16:$C$515,Calcolo!$A$16:$A$515,">="&DATE(Calcolo!$B$4,1,1),Calcolo!$A$16:$A$515,"<="&B6)) -> 1500 | D6: =IF(B6="",0,IF(Calcolo!$B$7="SI",MAX(0,C6),C6)) -> 1500
A7: 6 | B7: =IF(YEAR(DATE(Calcolo!$B$4,1,1)+5)=Calcolo!$B$4,DATE(Calcolo!$B$4,1,1)+5,"") -> 45663 | C7: =IF(B7="","",Calcolo!$B$5+SUMIFS(Calcolo!$C$16:$C$515,Calcolo!$A$16:$A$515,">="&DATE(Calcolo!$B$4,1,1),Calcolo!$A$16:$A$515,"<="&B7)) -> 1500 | D7: =IF(B7="",0,IF(Calcolo!$B$7="SI",MAX(0,C7),C7)) -> 1500
A8: 7 | B8: =IF(YEAR(DATE(Calcolo!$B$4,1,1)+6)=Calcolo!$B$4,DATE(Calcolo!$B$4,1,1)+6,"") -> 45664 | C8: =IF(B8="","",Calcolo!$B$5+SUMIFS(Calcolo!$C$16:$C$515,Calcolo!$A$16:$A$515,">="&DATE(Calcolo!$B$4,1,1),Calcolo!$A$16:$A$515,"<="&B8)) -> 1500 | D8: =IF(B8="",0,IF(Calcolo!$B$7="SI",MAX(0,C8),C8)) -> 1500
A9: 8 | B9: =IF(YEAR(DATE(Calcolo!$B$4,1,1)+7)=Calcolo!$B$4,DATE(Calcolo!$B$4,1,1)+7,"") -> 45665 | C9: =IF(B9="","",Calcolo!$B$5+SUMIFS(Calcolo!$C$16:$C$515,Calcolo!$A$16:$A$515,">="&DATE(Calcolo!$B$4,1,1),Calcolo!$A$16:$A$515,"<="&B9)) -> 1500 | D9: =IF(B9="",0,IF(Calcolo!$B$7="SI",MAX(0,C9),C9)) -> 1500
A10: 9 | B10: =IF(YEAR(DATE(Calcolo!$B$4,1,1)+8)=Calcolo!$B$4,DATE(Calcolo!$B$4,1,1)+8,"") -> 45666 | C10: =IF(B10="","",Calcolo!$B$5+SUMIFS(Calcolo!$C$16:$C$515,Calcolo!$A$16:$A$515,">="&DATE(Calcolo!$B$4,1,1),Calcolo!$A$16:$A$515,"<="&B10)) -> 1500 | D10: =IF(B10="",0,IF(Calcolo!$B$7="SI",MAX(0,C10),C10)) -> 1500
A11: 10 | B11: =IF(YEAR(DATE(Calcolo!$B$4,1,1)+9)=Calcolo!$B$4,DATE(Calcolo!$B$4,1,1)+9,"") -> 45667 | C11: =IF(B11="","",Calcolo!$B$5+SUMIFS(Calcolo!$C$16:$C$515,Calcolo!$A$16:$A$515,">="&DATE(Calcolo!$B$4,1,1),Calcolo!$A$16:$A$515,"<="&B11)) -> 1500 | D11: =IF(B11="",0,IF(Calcolo!$B$7="SI",MAX(0,C11),C11)) -> 1500
A12: 11 | B12: =IF(YEAR(DATE(Calcolo!$B$4,1,1)+10)=Calcolo!$B$4,DATE(Calcolo!$B$4,1,1)+10,"") -> 45668 | C12: =IF(B12="","",Calcolo!$B$5+SUMIFS(Calcolo!$C$16:$C$515,Calcolo!$A$16:$A$515,">="&DATE(Calcolo!$B$4,1,1),Calcolo!$A$16:$A$515,"<="&B12)) -> 1500 | D12: =IF(B12="",0,IF(Calcolo!$B$7="SI",MAX(0,C12),C12)) -> 1500
A13: 12 | B13: =IF(YEAR(DATE(Calcolo!$B$4,1,1)+11)=Calcolo!$B$4,DATE(Calcolo!$B$4,1,1)+11,"") -> 45669 | C13: =IF(B13="","",Calcolo!$B$5+SUMIFS(Calcolo!$C$16:$C$515,Calcolo!$A$16:$A$515,">="&DATE(Calcolo!$B$4,1,1),Calcolo!$A$16:$A$515,"<="&B13)) -> 1500 | D13: =IF(B13="",0,IF(Calcolo!$B$7="SI",MAX(0,C13),C13)) -> 1500
A14: 13 | B14: =IF(YEAR(DATE(Calcolo!$B$4,1,1)+12)=Calcolo!$B$4,DATE(Calcolo!$B$4,1,1)+12,"") -> 45670 | C14: =IF(B14="","",Calcolo!$B$5+SUMIFS(Calcolo!$C$16:$C$515,Calcolo!$A$16:$A$515,">="&DATE(Calcolo!$B$4,1,1),Calcolo!$A$16:$A$515,"<="&B14)) -> 1500 | D14: =IF(B14="",0,IF(Calcolo!$B$7="SI",MAX(0,C14),C14)) -> 1500
A15: 14 | B15: =IF(YEAR(DATE(Calcolo!$B$4,1,1)+13)=Calcolo!$B$4,DATE(Calcolo!$B$4,1,1)+13,"") -> 45671 | C15: =IF(B15="","",Calcolo!$B$5+SUMIFS(Calcolo!$C$16:$C$515,Calcolo!$A$16:$A$515,">="&DATE(Calcolo!$B$4,1,1),Calcolo!$A$16:$A$515,"<="&B15)) -> 1500 | D15: =IF(B15="",0,IF(Calcolo!$B$7="SI",MAX(0,C15),C15)) -> 1500
A16: 15 | B16: =IF(YEAR(DATE(Calcolo!$B$4,1,1)+14)=Calcolo!$B$4,DATE(Calcolo!$B$4,1,1)+14,"") -> 45672 | C16: =IF(B16="","",Calcolo!$B$5+SUMIFS(Calcolo!$C$16:$C$515,Calcolo!$A$16:$A$515,">="&DATE(Calcolo!$B$4,1,1),Calcolo!$A$16:$A$515,"<="&B16)) -> 1500 | D16: =IF(B16="",0,IF(Calcolo!$B$7="SI",MAX(0,C16),C16)) -> 1500
A17: 16 | B17: =IF(YEAR(DATE(Calcolo!$B$4,1,1)+15)=Calcolo!$B$4,DATE(Calcolo!$B$4,1,1)+15,"") -> 45673 | C17: =IF(B17="","",Calcolo!$B$5+SUMIFS(Calcolo!$C$16:$C$515,Calcolo!$A$16:$A$515,">="&DATE(Calcolo!$B$4,1,1),Calcolo!$A$16:$A$515,"<="&B17)) -> 1500 | D17: =IF(B17="",0,IF(Calcolo!$B$7="SI",MAX(0,C17),C17)) -> 1500
A18: 17 | B18: =IF(YEAR(DATE(Calcolo!$B$4,1,1)+16)=Calcolo!$B$4,DATE(Calcolo!$B$4,1,1)+16,"") -> 45674 | C18: =IF(B18="","",Calcolo!$B$5+SUMIFS(Calcolo!$C$16:$C$515,Calcolo!$A$16:$A$515,">="&DATE(Calcolo!$B$4,1,1),Calcolo!$A$16:$A$515,"<="&B18)) -> 1500 | D18: =IF(B18="",0,IF(Calcolo!$B$7="SI",MAX(0,C18),C18)) -> 1500
A19: 18 | B19: =IF(YEAR(DATE(Calcolo!$B$4,1,1)+17)=Calcolo!$B$4,DATE(Calcolo!$B$4,1,1)+17,"") -> 45675 | C19: =IF(B19="","",Calcolo!$B$5+SUMIFS(Calcolo!$C$16:$C$515,Calcolo!$A$16:$A$515,">="&DATE(Calcolo!$B$4,1,1),Calcolo!$A$16:$A$515,"<="&B19)) -> 1500 | D19: =IF(B19="",0,IF(Calcolo!$B$7="SI",MAX(0,C19),C19)) -> 1500
A20: 19 | B20: =IF(YEAR(DATE(Calcolo!$B$4,1,1)+18)=Calcolo!$B$4,DATE(Calcolo!$B$4,1,1)+18,"") -> 45676 | C20: =IF(B20="","",Calcolo!$B$5+SUMIFS(Calcolo!$C$16:$C$515,Calcolo!$A$16:$A$515,">="&DATE(Calcolo!$B$4,1,1),Calcolo!$A$16:$A$515,"<="&B20)) -> 1500 | D20: =IF(B20="",0,IF(Calcolo!$B$7="SI",MAX(0,C20),C20)) -> 1500
A21: 20 | B21: =IF(YEAR(DATE(Calcolo!$B$4,1,1)+19)=Calcolo!$B$4,DATE(Calcolo!$B$4,1,1)+19,"") -> 45677 | C21: =IF(B21="","",Calcolo!$B$5+SUMIFS(Calcolo!$C$16:$C$515,Calcolo!$A$16:$A$515,">="&DATE(Calcolo!$B$4,1,1),Calcolo!$A$16:$A$515,"<="&B21)) -> 1500 | D21: =IF(B21="",0,IF(Calcolo!$B$7="SI",MAX(0,C21),C21)) -> 1500
A22: 21 | B22: =IF(YEAR(DATE(Calcolo!$B$4,1,1)+20)=Calcolo!$B$4,DATE(Calcolo!$B$4,1,1)+20,"") -> 45678 | C22: =IF(B22="","",Calcolo!$B$5+SUMIFS(Calcolo!$C$16:$C$515,Calcolo!$A$16:$A$515,">="&DATE(Calcolo!$B$4,1,1),Calcolo!$A$16:$A$515,"<="&B22)) -> 1500 | D22: =IF(B22="",0,IF(Calcolo!$B$7="SI",MAX(0,C22),C22)) -> 1500
A23: 22 | B23: =IF(YEAR(DATE(Calcolo!$B$4,1,1)+21)=Calcolo!$B$4,DATE(Calcolo!$B$4,1,1)+21,"") -> 45679 | C23: =IF(B23="","",Calcolo!$B$5+SUMIFS(Calcolo!$C$16:$C$515,Calcolo!$A$16:$A$515,">="&DATE(Calcolo!$B$4,1,1),Calcolo!$A$16:$A$515,"<="&B23)) -> 1500 | D23: =IF(B23="",0,IF(Calcolo!$B$7="SI",MAX(0,C23),C23)) -> 1500
A24: 23 | B24: =IF(YEAR(DATE(Calcolo!$B$4,1,1)+22)=Calcolo!$B$4,DATE(Calcolo!$B$4,1,1)+22,"") -> 45680 | C24: =IF(B24="","",Calcolo!$B$5+SUMIFS(Calcolo!$C$16:$C$515,Calcolo!$A$16:$A$515,">="&DATE(Calcolo!$B$4,1,1),Calcolo!$A$16:$A$515,"<="&B24)) -> 1500 | D24: =IF(B24="",0,IF(Calcolo!$B$7="SI",MAX(0,C24),C24)) -> 1500
A25: 24 | B25: =IF(YEAR(DATE(Calcolo!$B$4,1,1)+23)=Calcolo!$B$4,DATE(Calcolo!$B$4,1,1)+23,"") -> 45681 | C25: =IF(B25="","",Calcolo!$B$5+SUMIFS(Calcolo!$C$16:$C$515,Calcolo!$A$16:$A$515,">="&DATE(Calcolo!$B$4,1,1),Calcolo!$A$16:$A$515,"<="&B25)) -> 1500 | D25: =IF(B25="",0,IF(Calcolo!$B$7="SI",MAX(0,C25),C25)) -> 1500
A26: 25 | B26: =IF(YEAR(DATE(Calcolo!$B$4,1,1)+24)=Calcolo!$B$4,DATE(Calcolo!$B$4,1,1)+24,"") -> 45682 | C26: =IF(B26="","",Calcolo!$B$5+SUMIFS(Calcolo!$C$16:$C$515,Calcolo!$A$16:$A$515,">="&DATE(Calcolo!$B$4,1,1),Calcolo!$A$16:$A$515,"<="&B26)) -> 1500 | D26: =IF(B26="",0,IF(Calcolo!$B$7="SI",MAX(0,C26),C26)) -> 1500
A27: 26 | B27: =IF(YEAR(DATE(Calcolo!$B$4,1,1)+25)=Calcolo!$B$4,DATE(Calcolo!$B$4,1,1)+25,"") -> 45683 | C27: =IF(B27="","",Calcolo!$B$5+SUMIFS(Calcolo!$C$16:$C$515,Calcolo!$A$16:$A$515,">="&DATE(Calcolo!$B$4,1,1),Calcolo!$A$16:$A$515,"<="&B27)) -> 1500 | D27: =IF(B27="",0,IF(Calcolo!$B$7="SI",MAX(0,C27),C27)) -> 1500
A28: 27 | B28: =IF(YEAR(DATE(Calcolo!$B$4,1,1)+26)=Calcolo!$B$4,DATE(Calcolo!$B$4,1,1)+26,"") -> 45684 | C28: =IF(B28="","",Calcolo!$B$5+SUMIFS(Calcolo!$C$16:$C$515,Calcolo!$A$16:$A$515,">="&DATE(Calcolo!$B$4,1,1),Calcolo!$A$16:$A$515,"<="&B28)) -> 1500 | D28: =IF(B28="",0,IF(Calcolo!$B$7="SI",MAX(0,C28),C28)) -> 1500
A29: 28 | B29: =IF(YEAR(DATE(Calcolo!$B$4,1,1)+27)=Calcolo!$B$4,DATE(Calcolo!$B$4,1,1)+27,"") -> 45685 | C29: =IF(B29="","",Calcolo!$B$5+SUMIFS(Calcolo!$C$16:$C$515,Calcolo!$A$16:$A$515,">="&DATE(Calcolo!$B$4,1,1),Calcolo!$A$16:$A$515,"<="&B29)) -> 1500 | D29: =IF(B29="",0,IF(Calcolo!$B$7="SI",MAX(0,C29),C29)) -> 1500
A30: 29 | B30: =IF(YEAR(DATE(Calcolo!$B$4,1,1)+28)=Calcolo!$B$4,DATE(Calcolo!$B$4,1,1)+28,"") -> 45686 | C30: =IF(B30="","",Calcolo!$B$5+SUMIFS(Calcolo!$C$16:$C$515,Calcolo!$A$16:$A$515,">="&DATE(Calcolo!$B$4,1,1),Calcolo!$A$16:$A$515,"<="&B30)) -> 1500 | D30: =IF(B30="",0,IF(Calcolo!$B$7="SI",MAX(0,C30),C30)) -> 1500
A31: 30 | B31: =IF(YEAR(DATE(Calcolo!$B$4,1,1)+29)=Calcolo!$B$4,DATE(Calcolo!$B$4,1,1)+29,"") -> 45687 | C31: =IF(B31="","",Calcolo!$B$5+SUMIFS(Calcolo!$C$16:$C$515,Calcolo!$A$16:$A$515,">="&DATE(Calcolo!$B$4,1,1),Calcolo!$A$16:$A$515,"<="&B31)) -> 1500 | D31: =IF(B31="",0,IF(Calcolo!$B$7="SI",MAX(0,C31),C31)) -> 1500
A32: 31 | B32: =IF(YEAR(DATE(Calcolo!$B$4,1,1)+30)=Calcolo!$B$4,DATE(Calcolo!$B$4,1,1)+30,"") -> 45688 | C32: =IF(B32="","",Calcolo!$B$5+SUMIFS(Calcolo!$C$16:$C$515,Calcolo!$A$16:$A$515,">="&DATE(Calcolo!$B$4,1,1),Calcolo!$A$16:$A$515,"<="&B32)) -> 1500 | D32: =IF(B32="",0,IF(Calcolo!$B$7="SI",MAX(0,C32),C32)) -> 1500
A33: 32 | B33: =IF(YEAR(DATE(Calcolo!$B$4,1,1)+31)=Calcolo!$B$4,DATE(Calcolo!$B$4,1,1)+31,"") -> 45689 | C33: =IF(B33="","",Calcolo!$B$5+SUMIFS(Calcolo!$C$16:$C$515,Calcolo!$A$16:$A$515,">="&DATE(Calcolo!$B$4,1,1),Calcolo!$A$16:$A$515,"<="&B33)) -> 1500 | D33: =IF(B33="",0,IF(Calcolo!$B$7="SI",MAX(0,C33),C33)) -> 1500
A34: 33 | B34: =IF(YEAR(DATE(Calcolo!$B$4,1,1)+32)=Calcolo!$B$4,DATE(Calcolo!$B$4,1,1)+32,"") -> 45690 | C34: =IF(B34="","",Calcolo!$B$5+SUMIFS(Calcolo!$C$16:$C$515,Calcolo!$A$16:$A$515,">="&DATE(Calcolo!$B$4,1,1),Calcolo!$A$16:$A$515,"<="&B34)) -> 1500 | D34: =IF(B34="",0,IF(Calcolo!$B$7="SI",MAX(0,C34),C34)) -> 1500
A35: 34 | B35: =IF(YEAR(DATE(Calcolo!$B$4,1,1)+33)=Calcolo!$B$4,DATE(Calcolo!$B$4,1,1)+33,"") -> 45691 | C35: =IF(B35="","",Calcolo!$B$5+SUMIFS(Calcolo!$C$16:$C$515,Calcolo!$A$16:$A$515,">="&DATE(Calcolo!$B$4,1,1),Calcolo!$A$16:$A$515,"<="&B35)) -> 1500 | D35: =IF(B35="",0,IF(Calcolo!$B$7="SI",MAX(0,C35),C35)) -> 1500
A36: 35 | B36: =IF(YEAR(DATE(Calcolo!$B$4,1,1)+34)=Calcolo!$B$4,DATE(Calcolo!$B$4,1,1)+34,"") -> 45692 | C36: =IF(B36="","",Calcolo!$B$5+SUMIFS(Calcolo!$C$16:$C$515,Calcolo!$A$16:$A$515,">="&DATE(Calcolo!$B$4,1,1),Calcolo!$A$16:$A$515,"<="&B36)) -> 1500 | D36: =IF(B36="",0,IF(Calcolo!$B$7="SI",MAX(0,C36),C36)) -> 1500
A37: 36 | B37: =IF(YEAR(DATE(Calcolo!$B$4,1,1)+35)=Calcolo!$B$4,DATE(Calcolo!$B$4,1,1)+35,"") -> 45693 | C37: =IF(B37="","",Calcolo!$B$5+SUMIFS(Calcolo!$C$16:$C$515,Calcolo!$A$16:$A$515,">="&DATE(Calcolo!$B$4,1,1),Calcolo!$A$16:$A$515,"<="&B37)) -> 1500 | D37: =IF(B37="",0,IF(Calcolo!$B$7="SI",MAX(0,C37),C37)) -> 1500
A38: 37 | B38: =IF(YEAR(DATE(Calcolo!$B$4,1,1)+36)=Calcolo!$B$4,DATE(Calcolo!$B$4,1,1)+36,"") -> 45694 | C38: =IF(B38="","",Calcolo!$B$5+SUMIFS(Calcolo!$C$16:$C$515,Calcolo!$A$16:$A$515,">="&DATE(Calcolo!$B$4,1,1),Calcolo!$A$16:$A$515,"<="&B38)) -> 1500 | D38: =IF(B38="",0,IF(Calcolo!$B$7="SI",MAX(0,C38),C38)) -> 1500
A39: 38 | B39: =IF(YEAR(DATE(Calcolo!$B$4,1,1)+37)=Calcolo!$B$4,DATE(Calcolo!$B$4,1,1)+37,"") -> 45695 | C39: =IF(B39="","",Calcolo!$B$5+SUMIFS(Calcolo!$C$16:$C$515,Calcolo!$A$16:$A$515,">="&DATE(Calcolo!$B$4,1,1),Calcolo!$A$16:$A$515,"<="&B39)) -> 1500 | D39: =IF(B39="",0,IF(Calcolo!$B$7="SI",MAX(0,C39),C39)) -> 1500
A40: 39 | B40: =IF(YEAR(DATE(Calcolo!$B$4,1,1)+38)=Calcolo!$B$4,DATE(Calcolo!$B$4,1,1)+38,"") -> 45696 | C40: =IF(B40="","",Calcolo!$B$5+SUMIFS(Calcolo!$C$16:$C$515,Calcolo!$A$16:$A$515,">="&DATE(Calcolo!$B$4,1,1),Calcolo!$A$16:$A$515,"<="&B40)) -> 1500 | D40: =IF(B40="",0,IF(Calcolo!$B$7="SI",MAX(0,C40),C40)) -> 1500
...

Sheet Istruzioni
A1: Come usare il foglio
A2: 1. Nel foglio "Calcolo" scrivi l'anno, il saldo che avevi il 1° gennaio e quanti sono gli intestatari.
A3: 2. Riporta ogni movimento dell'anno con la sua data valuta: importo positivo per le entrate, negativo per le uscite.
A4: 3. Leggi il risultato nelle celle azzurre. Il foglio "Giorni" mostra il saldo di ogni giorno.
A6: Come viene fatto il calcolo
A7: La giacenza media annua si ottiene dividendo la somma delle giacenze giornaliere per 365, indipendentemente dal numero di giorni in cui il conto è rimasto aperto.
A8: Fonte: Istruzioni per la compilazione della DSU (D.P.C.M. 159/2013), INPS e Ministero del Lavoro.
A9: Negli anni bisestili i giorni sommati sono 366, ma il divisore resta 365, come indicato dalle istruzioni.
A10: Le istruzioni definiscono la giacenza media come importo medio delle "somme a credito del cliente": per questo, come impostazione predefinita, i giorni con saldo negativo contano zero. Puoi cambiarla nella cella B7.
A12: Attenzione
A13: Per l'ISEE vale il dato comunicato dalla banca o da Poste. Usa questo foglio per fare una stima o un controllo. In caso di differenze chiedi alla banca, a un CAF o a un professionista.
